BEGIN:VCALENDAR
VERSION:2.0
PRODID:-//wp-events-plugin.com//7.2.3.1//EN
TZID:Europe/Berlin
X-WR-TIMEZONE:Europe/Berlin
BEGIN:VEVENT
UID:276@spiellandschaft.de
DTSTART;TZID=Europe/Berlin:20260923T093000
DTEND;TZID=Europe/Berlin:20260923T123000
DTSTAMP:20260214T101936Z
URL:https://spiellandschaft.de/veranstaltungen/spielwelten-erleben-und-ver
 stehen/
SUMMARY:Spielwelten – erleben und verstehen
DESCRIPTION:Gemeinsam wird das besondere Prinzip der Spielwelten kennen gel
 ernt. Das Spielformat besticht durch seine Einfachheit: eine flache Holzki
 ste\, Alltagsgegenstände (Besteck\, Gefäße\, Werkzeuge\, etc.) und Fül
 lmaterialien (Sand\, Bohnen\, Mehl\, etc.).\n\nDazu braucht es eine einzig
 e Spielregel: Alles bleibt im Kasten!\n\nWas ist der Zauber dieser scheinb
 ar so simplen Kästen? Warum spielen Kinder von 2 bis 10 Jahren dort so ru
 hig und vertieft? Wieso entsteht kein Chaos? Wir begeben uns selbst als Sp
 ielende in zahlreiche verschiedene Spielwelten und versuchen gemeinsam zu 
 ergründen\, worin der Zauber der Spielwelten besteht und welche Chancen d
 ies für die Kinder und Betreuenden birgt.\n\nKursinhalte:\n\n 	Kennenlern
 en der Spielwelten\n 	Pädagogischer Hintergrund\n 	Chancen und Möglichke
 iten für pädagogische Einrichtungen\n\nZielgruppe: Pädagogische Fachkr
 äfte und Ehrenamtliche aus Schule\, Kita\, Hort und Freizeitprojekten sow
 ie alle\, die Lust auf kreatives Arbeiten und neue Spielideen haben.\nLeit
 ung: Carsten Reinhard\, Spielmobil „ein schöner Ort“\nTeilnahmegebüh
 r: 20 €\n\n&nbsp\;\n\n
ATTACH;FMTTYPE=image/jpeg:https://spiellandschaft.de/wp-content/uploads/20
 24/11/SLS_MW_Erdball.png
CATEGORIES:Fortbildungen
LOCATION:Spiel- und Kulturwerkstatt ALEX\, Franz-Heubl-Str. 45\, München\,
  Deutschland
X-APPLE-STRUCTURED-LOCATION;VALUE=URI;X-ADDRESS=Franz-Heubl-Str. 45\, Münc
 hen\, Deutschland;X-APPLE-RADIUS=100;X-TITLE=Spiel- und Kulturwerkstatt AL
 EX:geo:0,0
END:VEVENT
BEGIN:VTIMEZONE
TZID:Europe/Berlin
X-LIC-LOCATION:Europe/Berlin
BEGIN:DAYLIGHT
DTSTART:20260329T030000
TZOFFSETFROM:+0100
TZOFFSETTO:+0200
TZNAME:CEST
END:DAYLIGHT
END:VTIMEZONE
END:VCALENDAR