BEGIN:VCALENDAR
VERSION:2.0
PRODID:-//wp-events-plugin.com//7.2.3.1//EN
TZID:Europe/Berlin
X-WR-TIMEZONE:Europe/Berlin
BEGIN:VEVENT
UID:275@spiellandschaft.de
DTSTART;TZID=Europe/Berlin:20261009T093000
DTEND;TZID=Europe/Berlin:20261009T123000
DTSTAMP:20260214T102334Z
URL:https://spiellandschaft.de/veranstaltungen/spielend-in-kleinen-raeumen
 -in-bewegung-kommen/
SUMMARY:Spielend in kleinen Räumen in Bewegung kommen
DESCRIPTION:Bewegung und Spiel auf begrenztem Raum\n\nIn der Arbeit mit Kin
 dern steht man oft vor der Herausforderung\, dem Bewegungsdrang der Kinder
  auch in kleinen – vielleicht mit Tischen und Bänken vollgestellten –
  Räumen gerecht zu werden.\n\nLehrer*innen kennen diese Situation aus dem
  Klassenzimmer\, Erzieher*innen und Pädagog*innen aus dem Gruppenraum.\n\
 nDoch was tun? Welche Spiele eignen sich\, um in einem engen Raum Bewegung
  und Abwechslung zu ermöglichen? Und wie lässt sich das ohne großen Auf
 wand umsetzen?\n\nIm Workshop werden Anleitungen für verschiedene Spielse
 quenzen gegeben und gezeigt\, wie mit einfachen Spielen\, mit wenig oder g
 anz ohne Material Bewegung in die Gruppe gebracht werden kann.\n\nKursinha
 lte:\n\n 	Grundprinzipien von Spielen in kleinen Räumen\n 	Kennenlernen v
 erschiedener Spielsequenzen\n 	Entwicklung und Durchführung eigener Spiel
 e\n\nZielgruppe: Mitarbeiter*innen in Freizeitstätten\, (Ganztags-)Schule
 n\, Kindertagesstätten\, Tagesheimen\, Mittagsbetreuung und alle an Spiel
  Interessierten\nLeitung: Jessica Köhler\, Spiellandschaft Stadt e.V.\nTe
 ilnahmegebühr: 20 €\n\n&nbsp\;\n\n
ATTACH;FMTTYPE=image/jpeg:https://spiellandschaft.de/wp-content/uploads/20
 24/11/SLS_MW_Jongleur.png
CATEGORIES:Fortbildungen
LOCATION:Spielhaus Westkreuz\, Aubinger Straße 57\, München\, Deutschland
X-APPLE-STRUCTURED-LOCATION;VALUE=URI;X-ADDRESS=Aubinger Straße 57\, Münc
 hen\, Deutschland;X-APPLE-RADIUS=100;X-TITLE=Spielhaus Westkreuz:geo:0,0
END:VEVENT
BEGIN:VTIMEZONE
TZID:Europe/Berlin
X-LIC-LOCATION:Europe/Berlin
BEGIN:DAYLIGHT
DTSTART:20260329T030000
TZOFFSETFROM:+0100
TZOFFSETTO:+0200
TZNAME:CEST
END:DAYLIGHT
END:VTIMEZONE
END:VCALENDAR