BEGIN:VCALENDAR
VERSION:2.0
PRODID:-//wp-events-plugin.com//7.2.3.1//EN
TZID:Europe/Berlin
X-WR-TIMEZONE:Europe/Berlin
BEGIN:VEVENT
UID:273@spiellandschaft.de
DTSTART;TZID=Europe/Berlin:20260509T093000
DTEND;TZID=Europe/Berlin:20260509T163000
DTSTAMP:20260214T101253Z
URL:https://spiellandschaft.de/veranstaltungen/spiele-gekonnt-anleiten/
SUMMARY:Spiele gekonnt anleiten
DESCRIPTION:Sie stehen vor der Herausforderung\, in der Offenen Kinder- und
  Jugendarbeit\, in Ganztag oder Hort\, in Spielgruppen\, in Unterkünften 
 oder auf dem Spielplatz\, mit Gruppen unterschiedlicher Größen\, verschi
 edener Altersspannen und / oder unterschiedlichen kulturellen Hintergründ
 en gemeinsame Spiele anzuleiten?\n\nDann bietet dieser eintägige Workshop
  ein praktisches Grundgerüst\, mit Spiel-Ideen\, Tipps zur Spiel-Anleitun
 g und Anregungen für den kreativen Einsatz von einfachem Spielmaterial.\n
 \nAm Samstag werden gemeinsam anhand unterschiedlicher Spielsituationen Fa
 ktoren und Grundlagen des Gruppenspiels erarbeitet: Wie leite ich ein Spie
 l überzeugend und verständlich an\, wie gewinne ich die Gruppe für mein
  Spiel? Welches Spielmaterial eignet sich? Welchen Einfluss haben verschie
 dene Spielorte auf meine Spielideen? Welches organisatorische Rüstzeug un
 d spielpädagogische Basiswissen brauche ich für die Planung und Durchfü
 hrung von Spielaktionen?\n\nIm Anschluss werden kleine Spielmaterialien zu
 m Sofortspielen gebaut\, mit denen eigene Spiel-Ideen entwickelt und in Kl
 eingruppen ausprobiert werden können.\n\nKursinhalte:\n\n 	Spielleiter*in
 nen-Training: Spiele anleiten\n 	Kreativer Umgang mit Orten\, Materialien 
 und Spielregeln\, um neue Spiele zu entwickeln\n 	Spielen mit „AHA-Effek
 t“: Spiele abwandeln\, um sie auf die Zielgruppe ausrichten zu können\n
  	Bauen kleiner Spielgeräte zum Sofortspielen\n\nZielgruppe: Mitarbeiter*
 innen beim Spielmobil\, aus Freizeitstätten\, aus Ferienangeboten\, aus d
 er (Ganztags-)Schule\, Tagesheim oder Mittagsbetreuung\, ehrenamtliche Spi
 elplatzpat*innen und alle an Spiel Interessierten.\nLeitung: Gerhard Knech
 t\, Spiellandschaft Stadt e.V.\nTeilnahmegebühr: 40 €\n\n&nbsp\;\n\n
ATTACH;FMTTYPE=image/jpeg:https://spiellandschaft.de/wp-content/uploads/20
 24/10/SLS_MW_Vortrag.png
CATEGORIES:Fortbildungen
LOCATION:Spielhaus Westkreuz\, Aubinger Straße 57\, München\, Deutschland
X-APPLE-STRUCTURED-LOCATION;VALUE=URI;X-ADDRESS=Aubinger Straße 57\, Münc
 hen\, Deutschland;X-APPLE-RADIUS=100;X-TITLE=Spielhaus Westkreuz:geo:0,0
END:VEVENT
BEGIN:VTIMEZONE
TZID:Europe/Berlin
X-LIC-LOCATION:Europe/Berlin
BEGIN:DAYLIGHT
DTSTART:20260329T030000
TZOFFSETFROM:+0100
TZOFFSETTO:+0200
TZNAME:CEST
END:DAYLIGHT
END:VTIMEZONE
END:VCALENDAR