BEGIN:VCALENDAR
VERSION:2.0
PRODID:-//wp-events-plugin.com//7.2.3.1//EN
TZID:Europe/Berlin
X-WR-TIMEZONE:Europe/Berlin
BEGIN:VEVENT
UID:277@spiellandschaft.de
DTSTART;TZID=Europe/Berlin:20261121T093000
DTEND;TZID=Europe/Berlin:20261121T163000
DTSTAMP:20260214T102704Z
URL:https://spiellandschaft.de/veranstaltungen/siebdruck-in-der-paedagogis
 chen-praxis-2026/
SUMMARY:Siebdruck in der pädagogischen Praxis
DESCRIPTION:Inmitten von Farben\, Papier und kreativer Atmosphäre gehen wi
 r gemeinsam die Grundlagen des Siebdrucks durch: von der Beschichtung und 
 Belichtung in der Dunkelkammer über den Druck bis hin zum Entschichten de
 s Siebes.\n\nIm praktischen Teil des Workshops drucken die Teilnehmenden e
 in einfarbiges Motiv entweder auf Papier oder Leinwand bis zu Größe DIN 
 A3 oder auf Stoff\, zum Beispiel einen Turnbeutel oder ein Tuch. Papier is
 t vorhanden. Wer das Motiv auf Stoff drucken möchte\, bringt diesen bitte
  selbst mit (muss nicht neu sein\; Wolle ist zum Drucken allerdings nicht 
 geeignet).\n\nZudem werden Erfahrungen mit der Methode Siebdruck aus der p
 ädagogischen Praxis in der offenen Kinder- und Jugendarbeit vermittelt.\n
 \nKursinhalte:\n\n 	Vermittlung des technischen und geschichtlichen Hinter
 grunds des Siebdrucks\n 	Vermittlung der Praxis des Siebdrucks: Materialie
 n\, Farben\, Gestaltung\n 	Drucken eines Siebdruckmotivs\n 	Tipps und Tric
 ks für die Umsetzung von Siebdruck-Projekten mit Kindern und Jugendlichen
 \n\nZielgruppe: Spielmobiler*innen\, Pädagog*innen\, Erzieher*innen\, Leh
 rer*innen\, Ehrenamtliche und alle Interessierten\nLeitung: Richard Bieger
 \, Spiellandschaft Stadt e.V.\, Streetwork Augsburg – Königsbrunn (KJR 
 – Augsburg Land)\nTeilnahmegebühr: 40 €\n\n&nbsp\;\n\n
ATTACH;FMTTYPE=image/jpeg:https://spiellandschaft.de/wp-content/uploads/20
 24/10/SLS_MW_Malermeister.png
CATEGORIES:Fortbildungen
LOCATION:Spielhaus Westkreuz\, Aubinger Straße 57\, München\, Deutschland
X-APPLE-STRUCTURED-LOCATION;VALUE=URI;X-ADDRESS=Aubinger Straße 57\, Münc
 hen\, Deutschland;X-APPLE-RADIUS=100;X-TITLE=Spielhaus Westkreuz:geo:0,0
END:VEVENT
BEGIN:VTIMEZONE
TZID:Europe/Berlin
X-LIC-LOCATION:Europe/Berlin
BEGIN:STANDARD
DTSTART:20261025T020000
TZOFFSETFROM:+0200
TZOFFSETTO:+0100
TZNAME:CET
END:STANDARD
END:VTIMEZONE
END:VCALENDAR