BEGIN:VCALENDAR
VERSION:2.0
PRODID:-//wp-events-plugin.com//7.2.3.1//EN
TZID:Europe/Berlin
X-WR-TIMEZONE:Europe/Berlin
BEGIN:VEVENT
UID:272@spiellandschaft.de
DTSTART;TZID=Europe/Berlin:20260428T093000
DTEND;TZID=Europe/Berlin:20260428T163000
DTSTAMP:20260214T100907Z
URL:https://spiellandschaft.de/veranstaltungen/seifenkiste-und-co/
SUMMARY:Seifenkiste und Co.
DESCRIPTION:Fahrzeuge bauen – vom Modell bis zur Lebensgröße\nHier komm
 t die Sache ins Rollen! Ob geschoben\, gezogen oder mit Motor ausgestattet
  – in dieser Fortbildung dreht sich alles um den gemeinsamen Bau von Fah
 rzeugen mit Kindern. Es werden unterschiedliche Bauweisen vorgestellt: von
  einfachen Modellfahrzeugen bis hin zu großen Seifenkisten\, die Kinder s
 elbst ausprobieren können.\n\nWelche Bauteile eignen sich und wo bekommt 
 man sie her? Wie konstruiere ich ein stabiles\, funktionsfähiges Fahrzeug
 \, und welche Werkzeuge sind nötig\, um sicher und erfolgreich mit Gruppe
 n zu arbeiten? Neben praktischen Tipps zum Bau werden Fragen zur Werkstatt
 ausstattung und zur Organisation von Projekten mit Gruppen besprochen. Dar
 über hinaus wird gezeigt\, wie sich das Thema regenerative Energie spiele
 risch in Fahrzeugbau-Projekte integrieren lässt.\n\nKursinhalte:\n\n 	Bau
  und Konstruktion von Fahrzeugen in verschiedenen Größen\n 	Material- un
 d Werkzeugkunde\n 	Sicherheit und Organisation in Werkstätten mit Gruppen
 \n 	Energie erleben – regenerative Antriebe\n\nZielgruppe: Pädagogische
  Fachkräfte\, Erzieher*innen\, Lehrer*innen\, Ehrenamtliche und alle Inte
 ressierten\, die kreative Fahrzeugprojekte mit Kindern umsetzen möchten.\
 nLeitung: Lukas Wolpert\, Schreinermeister\, Spiellandschaft Stadt e.V.\nT
 eilnahmegebühr: 40 €\n\n&nbsp\;\n\n
ATTACH;FMTTYPE=image/jpeg:https://spiellandschaft.de/wp-content/uploads/20
 24/10/SLS_MW_blauer_Wagen.png
CATEGORIES:Fortbildungen
LOCATION:Spiel- und Kulturwerkstatt ALEX\, Franz-Heubl-Str. 45\, München\,
  Deutschland
X-APPLE-STRUCTURED-LOCATION;VALUE=URI;X-ADDRESS=Franz-Heubl-Str. 45\, Münc
 hen\, Deutschland;X-APPLE-RADIUS=100;X-TITLE=Spiel- und Kulturwerkstatt AL
 EX:geo:0,0
END:VEVENT
BEGIN:VTIMEZONE
TZID:Europe/Berlin
X-LIC-LOCATION:Europe/Berlin
BEGIN:DAYLIGHT
DTSTART:20260329T030000
TZOFFSETFROM:+0100
TZOFFSETTO:+0200
TZNAME:CEST
END:DAYLIGHT
END:VTIMEZONE
END:VCALENDAR