BEGIN:VCALENDAR
VERSION:2.0
PRODID:-//wp-events-plugin.com//7.2.3.1//EN
TZID:Europe/Berlin
X-WR-TIMEZONE:Europe/Berlin
BEGIN:VEVENT
UID:270@spiellandschaft.de
DTSTART;TZID=Europe/Berlin:20260526T090000
DTEND;TZID=Europe/Berlin:20260529T180000
DTSTAMP:20260207T172943Z
URL:https://spiellandschaft.de/veranstaltungen/pfingstferien-spass-2026-ki
 nderwissenschaftstage-sonne-mond-und-sterne/
SUMMARY:Pfingstferien-Spaß 2026: Kinderwissenschaftstage „Sonne\, Mond u
 nd Sterne“
DESCRIPTION:Unser betreutes Pfingstferien-Angebot\nIn verschiedenen Bereich
 en gehen die Kinder der Frage nach\, wie man z.B. aus Sonnenenergie Strom 
 herstellen kann\, warum Sterne leuchten und warum es so schwierig ist zum 
 Mond zu fliegen. Neben der Experimentierwerkstatt\, gibt es einen Kreativb
 ereich in dem die Kinder Dinge zum Thema herstellen. Außerdem gibt es ein
 en Theaterbereich\, in dem die Kinder ein eignes Stück zum Thema Sonne\, 
 Mond und Sterne ausdenken und am letzten Tag der Ferienbetreuung allen int
 eressierten Eltern vorführen. Die Kinder können jeden Tag frei wählen i
 n welchen Bereich sie gehen möchten.\n\nTeilnehmende: 30 Mädchen und Jun
 gen im Alter von 6-12 Jahren\nTeilnahmebeitrag: 70 € komplett\, eine Erm
 äßigung für Geringverdienende ist möglich\nTermin: Di.-Fr.\, 26.-29. M
 ai 2026\, 9.00 – 18.00 Uhr (nur komplette Woche buchbar)\n\nAnmeldung: A
 b 31. Januar 2026 kann per Mail ein Platz reserviert und der Anmeldebogen 
 angefordert werden. \nBuchbar nur für Kinder mit 1. Wohnsitz in München!
 \n\nWeitere Details:\nDie Teilnahme von Kindern mit Behinderung ist nach A
 bsprache möglich.\nDer Teilnahmebeitrag beinhaltet die Verpflegung\, Betr
 euung und Materialkosten.
ATTACH;FMTTYPE=image/jpeg:https://spiellandschaft.de/wp-content/uploads/20
 21/10/collage_naturstern.jpg
CATEGORIES:Ferienangebote,Westkreuz – Spielbus
LOCATION:Spielhaus Westkreuz\, Aubinger Straße 57\, München\, Deutschland
X-APPLE-STRUCTURED-LOCATION;VALUE=URI;X-ADDRESS=Aubinger Straße 57\, Münc
 hen\, Deutschland;X-APPLE-RADIUS=100;X-TITLE=Spielhaus Westkreuz:geo:0,0
END:VEVENT
BEGIN:VTIMEZONE
TZID:Europe/Berlin
X-LIC-LOCATION:Europe/Berlin
BEGIN:DAYLIGHT
DTSTART:20260329T030000
TZOFFSETFROM:+0100
TZOFFSETTO:+0200
TZNAME:CEST
END:DAYLIGHT
END:VTIMEZONE
END:VCALENDAR