BEGIN:VCALENDAR
VERSION:2.0
PRODID:-//wp-events-plugin.com//7.2.3.1//EN
TZID:Europe/Berlin
X-WR-TIMEZONE:Europe/Berlin
BEGIN:VEVENT
UID:274@spiellandschaft.de
DTSTART;TZID=Europe/Berlin:20260620T093000
DTEND;TZID=Europe/Berlin:20260620T123000
DTSTAMP:20260214T101236Z
URL:https://spiellandschaft.de/veranstaltungen/erste-hilfe-basis-kurs-fuer
 -die-kinder-und-jugendarbeit/
SUMMARY:Erste Hilfe Basis-Kurs für die Kinder- und Jugendarbeit
DESCRIPTION:Unfälle passieren – ob beim Spielen\, Toben oder auf Ausflü
 gen. Doch was tun\, wenn etwas passiert?\n\nIn diesem Kurs lernen die Teil
 nehmenden\, wie sie in Notfällen richtig reagieren und mit einfachen Hand
 griffen helfen können\, bis professionelle Hilfe eintrifft. Sie erfahren\
 , wie ein Notruf abgesetzt wird\, wie man Blutungen stillt\, eine bewusstl
 ose Person lagert oder im Ernstfall eine Wiederbelebung durchführt.\n\nEi
 n besonderer Fokus liegt auf der Ersten Hilfe bei Kindern und Jugendlichen
 : Welche typischen Unfälle können passieren? Wie gehe ich mit Nasenblute
 n\, Sonnenstich oder Vergiftungen um? Und was ist rechtlich zu beachten\, 
 wenn ich mit Kindergruppen arbeite?\n\nKursinhalte:\n\n 	Richtiges Verhalt
 en in Notfällen und Absetzen eines Notrufs\n 	Erste-Hilfe-Maßnahmen bei 
 Verletzungen und Bewusstlosigkeit\n 	Besondere Notfälle in der Kinder- un
 d Jugendarbeit\n 	Praktische Übungen zu Wiederbelebung und Wundversorgung
 \n 	Rechtliche Grundlagen für Ersthelfer*innen\n\nZielgruppe: Jugendleite
 r*innen\, pädagogische Mitarbeiter*innen in der Kinder- und Jugendarbeit\
 , in Spielhäusern\, Spielbussen\, Freizeiteinrichtungen sowie alle Intere
 ssierten\nLeitung: Malteser Hilfsdienst e.V.\nTeilnahmegebühr: 20 €\n\n
 &nbsp\;\n\n
ATTACH;FMTTYPE=image/jpeg:https://spiellandschaft.de/wp-content/uploads/20
 24/11/SLS_MW_Entdecker.png
CATEGORIES:Fortbildungen
LOCATION:Spiel- und Kulturwerkstatt ALEX\, Franz-Heubl-Str. 45\, München\,
  Deutschland
X-APPLE-STRUCTURED-LOCATION;VALUE=URI;X-ADDRESS=Franz-Heubl-Str. 45\, Münc
 hen\, Deutschland;X-APPLE-RADIUS=100;X-TITLE=Spiel- und Kulturwerkstatt AL
 EX:geo:0,0
END:VEVENT
BEGIN:VTIMEZONE
TZID:Europe/Berlin
X-LIC-LOCATION:Europe/Berlin
BEGIN:DAYLIGHT
DTSTART:20260329T030000
TZOFFSETFROM:+0100
TZOFFSETTO:+0200
TZNAME:CEST
END:DAYLIGHT
END:VTIMEZONE
END:VCALENDAR