BEGIN:VCALENDAR
VERSION:2.0
PRODID:-//wp-events-plugin.com//7.2.3.1//EN
TZID:Europe/Berlin
X-WR-TIMEZONE:Europe/Berlin
BEGIN:VEVENT
UID:278@spiellandschaft.de
DTSTART;TZID=Europe/Berlin:20260724T093000
DTEND;TZID=Europe/Berlin:20260724T123000
DTSTAMP:20260319T162028Z
URL:https://spiellandschaft.de/veranstaltungen/drucken-ohne-druckmaschine/
SUMMARY:Drucken ohne Druckmaschine
DESCRIPTION:Experimentelles Gestalten und Drucken mit einfachen Mitteln\n\n
 Mit einfachen Materialien und ohne Druckmaschine entstehen überraschend v
 ielfältige Drucke. Durch experimentelles Arbeiten mit Farbe\, Form und St
 ruktur eröffnet sich ein spielerischer Zugang zu Gestaltung und Ausdruck.
  Im Mittelpunkt stehen der kreative Prozess\, die sinnliche Erfahrung und 
 die Freude am Tun. Das handlungsorientierte Arbeiten fördert Wahrnehmung\
 , Kreativität\,\nSelbstvertrauen und persönliche Entwicklung – und lä
 sst sich leicht in pädagogische Kontexte integrieren.\n\nKursinhalte:\n\n
  	Einfache Hoch- und Tiefdruckverfahren kennenlernen\n 	Farben mischen und
  anwenden\n 	Eigene Druckstöcke gestalten\n 	Gestaltungsprozesse anregen 
 und begleiten\n 	Kreativität und Ausdruck fördern\n 	Praktische Umsetzun
 g in Schule\, Werkstätten oder im Freien\n\nZielgruppe: Pädagog*innen\, 
 Erzieher*innen\, Lehrer*innen\, Künstler*innen\, Ehrenamtliche und alle I
 nteressierten\, die kreative Drucktechniken in der pädagogischen Praxis e
 insetzen möchten.\nLeitung: Stefan Stoll\, Spiellandschaft Stadt e.V.\nTe
 ilnahmegebühr: 20 €\n\n&nbsp\;\n\n
ATTACH;FMTTYPE=image/jpeg:https://spiellandschaft.de/wp-content/uploads/20
 24/11/SLS_MW_Entdecker.png
CATEGORIES:Fortbildungen
LOCATION:Spielhaus Westkreuz\, Aubinger Straße 57\, München\, Deutschland
X-APPLE-STRUCTURED-LOCATION;VALUE=URI;X-ADDRESS=Aubinger Straße 57\, Münc
 hen\, Deutschland;X-APPLE-RADIUS=100;X-TITLE=Spielhaus Westkreuz:geo:0,0
END:VEVENT
BEGIN:VTIMEZONE
TZID:Europe/Berlin
X-LIC-LOCATION:Europe/Berlin
BEGIN:DAYLIGHT
DTSTART:20260329T030000
TZOFFSETFROM:+0100
TZOFFSETTO:+0200
TZNAME:CEST
END:DAYLIGHT
END:VTIMEZONE
END:VCALENDAR